BEGIN:VCALENDAR
VERSION:2.0
PRODID:-//HCP Ed-UK - ECPv6.15.14//NONSGML v1.0//EN
CALSCALE:GREGORIAN
METHOD:PUBLISH
X-WR-CALNAME:HCP Ed-UK
X-ORIGINAL-URL:https://hcp-ed.co.uk
X-WR-CALDESC:Events for HCP Ed-UK
REFRESH-INTERVAL;VALUE=DURATION:PT1H
X-Robots-Tag:noindex
X-PUBLISHED-TTL:PT1H
BEGIN:VTIMEZONE
TZID:UTC
BEGIN:STANDARD
TZOFFSETFROM:+0000
TZOFFSETTO:+0000
TZNAME:UTC
DTSTART:20250101T000000
END:STANDARD
END:VTIMEZONE
BEGIN:VEVENT
DTSTART;TZID=UTC:20260127T124500
DTEND;TZID=UTC:20260127T140000
DTSTAMP:20260424T204629
CREATED:20260102T040713Z
LAST-MODIFIED:20260122T092508Z
UID:10001341-1769517900-1769522400@hcp-ed.co.uk
SUMMARY:Differential Diagnosis Part 2
DESCRIPTION:Join us for part 2 of the series where we will take a closer look at some of the most common differential diagnoses of asthma. Asthma can present with a wide range of symptoms that often overlap with other respiratory and non-respiratory conditions\, making accurate diagnosis a challenge. This session will help healthcare professionals develop the clinical acumen to recognise alternative causes of wheeze\, cough\, and breathlessness\, and to identify when a diagnosis of asthma should be reconsidered. \n\n\n\nDelivered by: Michelle Treasure\, Dragon Respiratory Training Academy
URL:https://hcp-ed.co.uk/event/differential-diagnosis-part-2/
LOCATION:Online Webinar
CATEGORIES:Live Presentation,Lunch & Learn
ATTACH;FMTTYPE=image/png:https://hcp-ed.co.uk/wp-content/uploads/2026/01/Differential-Diagnosis-Part-2.png
END:VEVENT
END:VCALENDAR