BEGIN:VCALENDAR
VERSION:2.0
PRODID:-//HCP Ed-UK - ECPv6.15.14//NONSGML v1.0//EN
CALSCALE:GREGORIAN
METHOD:PUBLISH
X-ORIGINAL-URL:https://hcp-ed.co.uk
X-WR-CALDESC:Events for HCP Ed-UK
REFRESH-INTERVAL;VALUE=DURATION:PT1H
X-Robots-Tag:noindex
X-PUBLISHED-TTL:PT1H
BEGIN:VTIMEZONE
TZID:UTC
BEGIN:STANDARD
TZOFFSETFROM:+0000
TZOFFSETTO:+0000
TZNAME:UTC
DTSTART:20240101T000000
END:STANDARD
END:VTIMEZONE
BEGIN:VEVENT
DTSTART;TZID=UTC:20251001T083000
DTEND;TZID=UTC:20251001T123000
DTSTAMP:20260425T054927
CREATED:20250822T215330Z
LAST-MODIFIED:20250929T180129Z
UID:10001455-1759307400-1759321800@hcp-ed.co.uk
SUMMARY:C&V Contraception Update Morning
DESCRIPTION:C&V Contraception Update Morning with Dr. Georgina Forbes
URL:https://hcp-ed.co.uk/event/cv-contraception-update-morning/
LOCATION:NHS Woodlands House\, Maes y Coed Rd\, Cardiff\, CF14 4HH\, United Kingdom
CATEGORIES:General Health,Update Session
ATTACH;FMTTYPE=image/png:https://hcp-ed.co.uk/wp-content/uploads/2025/08/CV-Contraception-Update-1.png
END:VEVENT
END:VCALENDAR