BEGIN:VCALENDAR
VERSION:2.0
PRODID:-//HCP Ed-UK - ECPv6.15.14//NONSGML v1.0//EN
CALSCALE:GREGORIAN
METHOD:PUBLISH
X-ORIGINAL-URL:https://hcp-ed.co.uk
X-WR-CALDESC:Events for HCP Ed-UK
REFRESH-INTERVAL;VALUE=DURATION:PT1H
X-Robots-Tag:noindex
X-PUBLISHED-TTL:PT1H
BEGIN:VTIMEZONE
TZID:UTC
BEGIN:STANDARD
TZOFFSETFROM:+0000
TZOFFSETTO:+0000
TZNAME:UTC
DTSTART:20240101T000000
END:STANDARD
END:VTIMEZONE
BEGIN:VEVENT
DTSTART;TZID=UTC:20250909T123000
DTEND;TZID=UTC:20250909T170000
DTSTAMP:20260425T042044
CREATED:20250724T061828Z
LAST-MODIFIED:20250822T204823Z
UID:10001454-1757421000-1757437200@hcp-ed.co.uk
SUMMARY:Cheshire West Primary Care Clinical Education Afternoon
DESCRIPTION:On behalf of  the Cheshire & Merseyside Practice Development Team\, HCP Ed-UK are delighted to invite all qualified Healthcare Professionals working in and supporting Primary Care in Cheshire West to join us for an engaging and informative afternoon on Tuesday\, 9th September. \n\n\n\nDoors open from 12.30pm with registration\, a light lunch\, and the opportunity to explore our exhibition. From 1.30pm\, we’ll kick off with a welcome and introduction\, followed by a series of expert-led sessions covering key clinical topics\, including Respiratory\, Renal\, Weight Management\, Diabetes\, Liver Disease and Haematology. \n\n\n\nWe look forward to a valuable afternoon of learning\, discussion\, and networking\, concluding at 5.00pm.
URL:https://hcp-ed.co.uk/event/cheshire-west-primary-care-clinical-education-afternoon/
LOCATION:Cheshire View\, Plough Lane\,\, Chester\, CH3 7PT\, United Kingdom
CATEGORIES:Conference,General Health,Primary Care
ATTACH;FMTTYPE=image/png:https://hcp-ed.co.uk/wp-content/uploads/2025/07/Cheshire-West-Primary-Care-Clinical-Education-Afternoon-fully-booked.png
END:VEVENT
BEGIN:VEVENT
DTSTART;TZID=UTC:20250917T124500
DTEND;TZID=UTC:20250917T140000
DTSTAMP:20260425T042044
CREATED:20250622T040558Z
LAST-MODIFIED:20250903T013639Z
UID:10001451-1758113100-1758117600@hcp-ed.co.uk
SUMMARY:New All Wales Asthma Guidelines
DESCRIPTION:🩺 You’re Invited \n\n\n\nAll Wales Asthma Guidelines: 2025 Update.  \n\n\n\nA change to the national guidelines which is now in line with the NICE/BTS/SIGN 2024 UK guidance.  \n\n\n\nJoin Michelle Treasure of Dragon Respiratory Training Academy for this session where we will look at the changes in the diagnostic and prescribing pathways\, consider why this change was needed and discuss how we can implement these changes in primary care in Wales \n\n\n\nAs a virtual delegate you are responsible to ensure there are no non health care professionals in attendance at any point during this meeting. \n\n\n\n12.45pm Registration\, Welcome & Housekeeping – HCP Ed-UK Meeting Facilitator \n\n\n\n12.50pm Virtual Promotional Product Presentation – Representative from the Pharmaceutical Industry \n\n\n\n13.00pm Virtual Promotional Product Presentation – Representative from the Pharmaceutical Industry \n\n\n\n13.10pm New All Wales Asthma Guidelines \n\n\n\nGuest Speaker – Michelle Treasure of Dragon Respiratory Training Academy \n\n\n\n14.00pm Round up & Close \n\n\n\nBook Your Free Place Now
URL:https://hcp-ed.co.uk/event/new-all-wales-asthma-guidelines-17th-sept/
LOCATION:Online Webinar
CATEGORIES:Live Presentation,Respiratory
ATTACH;FMTTYPE=image/png:https://hcp-ed.co.uk/wp-content/uploads/2025/06/New-All-Wales-Asthma-Guidelines-1.png
END:VEVENT
BEGIN:VEVENT
DTSTART;TZID=UTC:20250925T090000
DTEND;TZID=UTC:20250925T130000
DTSTAMP:20260425T042044
CREATED:20250622T044900Z
LAST-MODIFIED:20250813T192233Z
UID:10001452-1758790800-1758805200@hcp-ed.co.uk
SUMMARY:Travel Health Update Cardiff
DESCRIPTION:🩺 You’re Invited \n\n\n\nTravel Health Update – Yvonne Gibney\, Travel Health Nurse Specialist \n\n\n\nSubjects will include: \n\n\n\n\nA Review and Update on the Shifts and Trends in Travel Health.\n\n\n\n\n\nA Focus on Mosquito Borne Disease including Dengue Fever\, Chikungunya and Malaria.\n\n\n\n\n \n\n\n\n\nRabies Risks and Pre and Post Exposure Vaccinations\n\n\n\n\n\nTravel Health Vaccinations New to the UK Market
URL:https://hcp-ed.co.uk/event/travel-health-update-cardiff-sept-2025/
LOCATION:NHS Woodlands House\, Maes y Coed Rd\, Cardiff\, CF14 4HH\, United Kingdom
CATEGORIES:Conference,Travel Health
ATTACH;FMTTYPE=image/png:https://hcp-ed.co.uk/wp-content/uploads/2025/06/Traveller-Health-Update-Cardiff-fully-booked.png
END:VEVENT
BEGIN:VEVENT
DTSTART;TZID=UTC:20250926T090000
DTEND;TZID=UTC:20250926T160000
DTSTAMP:20260425T042044
CREATED:20250630T180809Z
LAST-MODIFIED:20250730T193447Z
UID:10001453-1758877200-1758902400@hcp-ed.co.uk
SUMMARY:Dermatology in a Nutshell
DESCRIPTION:IMPROVING SKILLS IN DERMATOLOGY THROUGH EDUCATION & TRAINING  \n\n\n\nAccording to the RCGP skin conditions are the most common reason for patients to present in primary care\, and around one in four patients visit their GP with skin problems each year! However unfair you feel this might be\, you need to be able to think coherently about not only potentially making a diagnosis\, but some sensible treatment strategies after that.  \n\n\n\nThis event is aimed at anyone working in primary care who recognises the need to know some dermatology\, but frankly just isn’t particularly keen on it!
URL:https://hcp-ed.co.uk/event/dermatology-in-a-nutshell-september/
LOCATION:The Conference Centre at LACE\, Croxteth Drive\, Liverpool\, L17 1AA
CATEGORIES:Conference,General Health
ATTACH;FMTTYPE=image/png:https://hcp-ed.co.uk/wp-content/uploads/2025/06/Dermatology-in-a-Nutshell-September.png
END:VEVENT
END:VCALENDAR