BEGIN:VCALENDAR
VERSION:2.0
PRODID:-//HCP Ed-UK - ECPv6.15.14//NONSGML v1.0//EN
CALSCALE:GREGORIAN
METHOD:PUBLISH
X-ORIGINAL-URL:https://hcp-ed.co.uk
X-WR-CALDESC:Events for HCP Ed-UK
REFRESH-INTERVAL;VALUE=DURATION:PT1H
X-Robots-Tag:noindex
X-PUBLISHED-TTL:PT1H
BEGIN:VTIMEZONE
TZID:UTC
BEGIN:STANDARD
TZOFFSETFROM:+0000
TZOFFSETTO:+0000
TZNAME:UTC
DTSTART:20250101T000000
END:STANDARD
END:VTIMEZONE
BEGIN:VEVENT
DTSTART;TZID=UTC:20260306T083000
DTEND;TZID=UTC:20260306T163000
DTSTAMP:20260423T053325
CREATED:20260102T070730Z
LAST-MODIFIED:20260301T153431Z
UID:10001355-1772785800-1772814600@hcp-ed.co.uk
SUMMARY:Forging the Future of Diabetes Care Cheshire & Merseyside
DESCRIPTION:BOOKINGS NOW CLOSED \n\n\n\nYou’re Invited: Forging the Future of Diabetes Care in Cheshire & Merseyside \n\n\n\n“Leading Change” \n\n\n\nJoin us for an inspiring & empowering event featuring thought leaders and changemakers working in the world of Diabetes including: \n\n\n\n\nProfessor Partha Kar – FRCP MD OBE. NHSE England GIRFT. National Specialty Advisor for Diabetes\, NHS England \n\n\n\n\n\nJane Diggle – BSc (Hons) RGN Specialist Diabetes Nurse Practitioner \n\n\n\n\n\nDr Surya Rajeev – Consultant in Diabetes & Endocrinology. Cheshire & Merseyside Diabetes Clinical Network Lead \n\n\n\n\n\nTracey Molyneux – Consultant ACP Diabetes. Network Lead DSN \n\n\n\n\n \n\n\n\n\n\n\n\nTogether\, with expert colleagues\, focusing on the emotional health & wellbeing of people with diabetes they’ll explore pressing challenges\, share impactful stories\, and spark conversation around innovation\, inclusion\, prevention and the steps needed to take to Forge the Future of Diabetes Care in Cheshire & Merseyside. \n\n\n\n\n\n\n\nWhat the day holds for you. You will: \n\n\n\n\nExplore emerging pressures in diabetes care and how healthcare teams are adapting to meet new expectations.\n\n\n\nUnderstand the pathophysiology and management of diabetes-related complications\n\n\n\nLearn from improvement projects and clinical initiatives\n\n\n\nGain insight into national and regional programmes\n\n\n\nDiscuss integrated care approaches\, involving specialist dieticians\, psychiatrists\, and community health systems to support complex diabetes needs.\n\n\n\nEngage with pharmaceutical advancements.\n\n\n\nStrengthen local network connections among clinical staff\, service managers\, and policy influencers.\n\n\n\n\n\n\n\n\nIn addition attendees will: \n\n\n\n\nHave enhanced understanding of current clinical strategies and policy directions in diabetes care.\n\n\n\nBe better equipped to apply interdisciplinary insights to their practice.\n\n\n\nTake away actionable tools and ideas for implementing improvement projects in their own settings.\n\n\n\nBuild connections with peers\, innovators\, and leaders across the Cheshire & Merseyside diabetes care landscape.\n\n\n\nLeave motivated to collaborate and advocate for patient-centered\, system-integrated diabetes services.\n\n\n\n\n\n\n\n\n\n\n\n\n\n\n\n\n\n\n\n\nWhen: Friday 6th March 2026  \n\n\n\nWhere: Holiday Inn\, Lime Street\, Liverpool\, L1 1NQ \n\n\n\nTimings: Registration from 8.30am for a 9.00am start.  4.30pm round-up and close  \n\n\n\n \n\n\n\nDon’t miss this opportunity to connect\, learn\, and lead the change. \n\n\n\n\n\n\n\n\n\n\n\n 
URL:https://hcp-ed.co.uk/event/forging-the-future-of-diabetes-care-cheshire-merseyside/
LOCATION:Holiday Inn Liverpool\, Lime Street\, Liverpool\, L1 1NQ
CATEGORIES:Conference,Diabetes
ATTACH;FMTTYPE=image/png:https://hcp-ed.co.uk/wp-content/uploads/2026/01/Forging-the-Future-of-Diabetes-Care-Cheshire-Merseyside.png
END:VEVENT
BEGIN:VEVENT
DTSTART;TZID=UTC:20260312T124500
DTEND;TZID=UTC:20260312T140000
DTSTAMP:20260423T053325
CREATED:20260209T204837Z
LAST-MODIFIED:20260313T094806Z
UID:10001477-1773319500-1773324000@hcp-ed.co.uk
SUMMARY:SGLT2 Inhibitors: Beyond Glycaemic Control
DESCRIPTION:Beyond HbA1c: Modern Diabetes Care in Primary Care Nursing \n\n\n\nThe first in a series of three one-hour Lunch & Learn sessions designed for nurses working in general practice\, focusing on contemporary diabetes care beyond glycaemic control. \n\n\n\nSession 1 SGLT2 Inhibitors: Beyond Glycaemic Control \n\n\n\nSession overview/content:This session explores the role of SGLT2 inhibitors in modern diabetes care\, with a particularfocus on their cardiovascular and renal benefits. It will move beyond glucose lowering to helpnurses understand why these medications are increasingly used in people with type 2 diabeteswho have\, or are at risk of\, heart failure and chronic kidney disease. Practical nursingconsiderations\, monitoring\, and patient conversations will be highlighted throughout. \n\n\n\nAim:To enable primary care nurses to understand the non-glycaemic benefits of SGLT2 inhibitorsand their role in improving cardiovascular and renal outcomes in people with type 2 diabetes. \n\n\n\nLearning objectives: \n\n\n\n\nUnderstand key nursing considerations\, including side effects\, sick day rules\, and\n\n\n\npatient counselling\n\n\n\nBy the end of this session\, participants will be able to:\n\n\n\nDescribe how SGLT2 inhibitors work beyond glucose lowering\n\n\n\nExplain the cardiovascular benefits of SGLT2 inhibitors\, particularly in heart failure\n\n\n\nRecognise the renal protective effects of SGLT2 inhibitors in people with type 2\n\n\n\ndiabetes\n\n\n\nIdentify which patients in primary care are most likely to benefit from SGLT2 inhibitor\n\n\n\ntherapy\n\n\n\n\n\n\n\n\n\n\n\n\n \n\n\n\nSpeaker: Tracy Kirk – Director of Education at the Primary Care Respiratory Training Centre.
URL:https://hcp-ed.co.uk/event/sglt2-inhibitors-beyond-glycaemic-control/
LOCATION:Online Webinar
CATEGORIES:Diabetes,Live Presentation
ATTACH;FMTTYPE=image/png:https://hcp-ed.co.uk/wp-content/uploads/2026/02/SGLT2-Inhibitors-Beyond-Glycaemic-Control-1-1.png
END:VEVENT
END:VCALENDAR