BEGIN:VCALENDAR
VERSION:2.0
PRODID:-//HCP Ed-UK - ECPv6.15.14//NONSGML v1.0//EN
CALSCALE:GREGORIAN
METHOD:PUBLISH
X-ORIGINAL-URL:https://hcp-ed.co.uk
X-WR-CALDESC:Events for HCP Ed-UK
REFRESH-INTERVAL;VALUE=DURATION:PT1H
X-Robots-Tag:noindex
X-PUBLISHED-TTL:PT1H
BEGIN:VTIMEZONE
TZID:UTC
BEGIN:STANDARD
TZOFFSETFROM:+0000
TZOFFSETTO:+0000
TZNAME:UTC
DTSTART:20230101T000000
END:STANDARD
END:VTIMEZONE
BEGIN:VEVENT
DTSTART;TZID=UTC:20241002T083000
DTEND;TZID=UTC:20241002T163000
DTSTAMP:20260422T013128
CREATED:20240514T030154Z
LAST-MODIFIED:20241004T023108Z
UID:10001421-1727857800-1727886600@hcp-ed.co.uk
SUMMARY:All Wales Respiratory Roadshow Llanelli
DESCRIPTION:The Respiratory landscape is changing – with the introduction of biologics\, the increase in multiple combination inhalers\, new Asthma guidelines\, the green programme and the introduction of patient tech. \n\n\n\nWith so much going on it is imperative that the Healthcare Professionals of Wales have access to up to date information and resources. \n\n\n\nOn 2nd October the All Wales Respiratory Roadshow will be in Llanelli with a full day event focusing on the future of Respiratory Care across Wales. \n\n\n\nAll qualified Healthcare Professionals working in and supporting respiratory patients in both Primary and Secondary Care across Wales are invited to attend\, to hear about and discuss new exciting initiatives and guidelines\, share best practice and network with their colleagues and peers. \n\n\n\n\n\n\n\n\n\n\n\n\n\n\n\n\n\n\n\n\n\n 
URL:https://hcp-ed.co.uk/event/all-wales-respiratory-roadshow-llanelli/
LOCATION:Parc y Scarlets\, Pemberton Park\, Llanelli\, SA14 9UZ
CATEGORIES:Conference,Respiratory
ATTACH;FMTTYPE=image/png:https://hcp-ed.co.uk/wp-content/uploads/2024/05/All-Wales-Respiratory-Roadshow-Llanelli.png
END:VEVENT
BEGIN:VEVENT
DTSTART;TZID=UTC:20241002T120000
DTEND;TZID=UTC:20241002T163000
DTSTAMP:20260422T013128
CREATED:20240401T023503Z
LAST-MODIFIED:20241004T025359Z
UID:10001292-1727870400-1727886600@hcp-ed.co.uk
SUMMARY:Travel Health Update Wirral
DESCRIPTION:Format: Afternoon Venue based Conference with Supporting Exhibition \n\n\n\n12.00 arrival – registration\, lunch and exhibition \n\n\n\nAudience: PNs/ANPs working in North Wales \n\n\n\nSpeaker: Yvonne Gibney \n\n\n\n\n\n\n\n\n\n\n\n\n\n\n\n\n\n\n\n 
URL:https://hcp-ed.co.uk/event/travel-health-update-wirral/
LOCATION:Civic Medical Centre\, Bebington\, CH63 7RX\, United Kingdom
CATEGORIES:General Health,Study Afternoon
ATTACH;FMTTYPE=image/png:https://hcp-ed.co.uk/wp-content/uploads/2024/03/Travel-Health-Update-Wirral-3.png
END:VEVENT
BEGIN:VEVENT
DTSTART;TZID=UTC:20241004T083000
DTEND;TZID=UTC:20241004T163000
DTSTAMP:20260422T013128
CREATED:20240508T040349Z
LAST-MODIFIED:20240930T023348Z
UID:10001301-1728030600-1728059400@hcp-ed.co.uk
SUMMARY:North Wales Practice Nurse and ANP Autumn Conference 2024
DESCRIPTION:HCP Ed-UK are delighted to announce that we are coordinating & facilitating the delivery of the North Wales Practice Nurse Autumn Conference. \nThis will be another actioned packed\, educational\, inspirational and motivational day planned for you\, delivered by a host of exceptional speakers covering a range of topics. \nFull agenda to follow  \nThe North Wales Practice Nurse Autumn Conference 2024 is open to qualified Practice Nurses and ANP’s working in and supporting Primary Care. \nThis event is being sponsored by representatives from the pharmaceutical industry who are sponsoring the cost associated with the conference via the purchase of stand space. They have no input into the organisation\, agenda\, slide presentations or choice of speakers. \nThe Meeting will be facilitated by HCP Ed-UK in line with the ABPI \n\n\n\n\n\n\n\n\n\n\n\n\n\n\n 
URL:https://hcp-ed.co.uk/event/north-wales-practice-nurse-anp-autumn-conference-2024/
LOCATION:White House\, Holywell Rd\, Rhuallt\,\, St Asaph\, LL17 0AW\, United Kingdom
CATEGORIES:Conference
ATTACH;FMTTYPE=image/png:https://hcp-ed.co.uk/wp-content/uploads/2024/05/North-Wales-Practice-Nurse-Autumn-Conference-2024.png
END:VEVENT
BEGIN:VEVENT
DTSTART;TZID=UTC:20241009T083000
DTEND;TZID=UTC:20241009T163000
DTSTAMP:20260422T013129
CREATED:20240227T073522Z
LAST-MODIFIED:20241008T234605Z
UID:10001413-1728462600-1728491400@hcp-ed.co.uk
SUMMARY:All Wales Respiratory Roadshow Aberystwyth
DESCRIPTION:The Respiratory landscape is changing – with the introduction of biologics\, the increase in multiple combination inhalers\, new Asthma guidelines\, the green programme and the introduction of patient tech. \n\n\n\nWith so much going on it is imperative that the Healthcare Professionals of Wales have access to up to date information and resources. \n\n\n\nOn 9th October the All Wales Respiratory Roadshow will be in Aberystwyth with a full day event focusing on the future of Respiratory Care across Wales. \n\n\n\nAll qualified Healthcare Professionals working in and supporting respiratory patients in both Primary and Secondary Care across Wales are invited to attend\, to hear about and discuss new exciting initiatives and guidelines\, share best practice and network with their colleagues and peers. \n\n\n\n\n\n\n\n\n\n\n\n\n\n\n\n\n\n\n\n\n\n 
URL:https://hcp-ed.co.uk/event/all-wales-respiratory-roadshow-aberystwyth/
LOCATION:Park Lodge\, Ffordd Parc y Llyn\, Llanbadarn Fawr\, Aberystwyth\, SY23 3TL
CATEGORIES:Conference,Respiratory
ATTACH;FMTTYPE=image/png:https://hcp-ed.co.uk/wp-content/uploads/2024/02/All-Wales-Respiratory-Roadshow-Aberystwyth-1.png
END:VEVENT
BEGIN:VEVENT
DTSTART;TZID=UTC:20241014T083000
DTEND;TZID=UTC:20241017T170000
DTSTAMP:20260422T013129
CREATED:20240812T210725Z
LAST-MODIFIED:20240919T212847Z
UID:10001428-1728894600-1729184400@hcp-ed.co.uk
SUMMARY:All Wales Respiratory SPR Autumn Training Week 2024
DESCRIPTION:We look forward to welcoming you to the All Wales Respiratory SPR Autumn Training week at the Village Hotel\, Cardiff. \n\n\n\nFour days of teaching\, personal and professional development for Respiratory SPRs working in Wales
URL:https://hcp-ed.co.uk/event/all-wales-respiratory-spr-autumn-training-week-2024/
LOCATION:Village Hotel\, Cardiff\, 29 Pendwyallt Road\, Cardiff\, CF14 7EF\, United Kingdom
CATEGORIES:Conference
ATTACH;FMTTYPE=image/png:https://hcp-ed.co.uk/wp-content/uploads/2024/08/SPR-Autumn-2024.png
END:VEVENT
BEGIN:VEVENT
DTSTART;TZID=UTC:20241015T083000
DTEND;TZID=UTC:20241015T163000
DTSTAMP:20260422T013129
CREATED:20240514T045557Z
LAST-MODIFIED:20240820T031739Z
UID:10001422-1728981000-1729009800@hcp-ed.co.uk
SUMMARY:Cardiff and Vale Practice Nurse Travel Health Update
DESCRIPTION:Format: Afternoon Venue based Conference with Supporting Exhibition \n\n\n\nAudience: PNs/ANPs working in South Wales \n\n\n\nSpeaker: Becky Swadling \n\n\n\n\n\n\n\n\n\n\n\n\n\n\n\n\n\n 
URL:https://hcp-ed.co.uk/event/travel-health-update-cardiff/
LOCATION:NHS Woodlands House\, Maes y Coed Rd\, Cardiff\, CF14 4HH\, United Kingdom
CATEGORIES:Conference,General Health
ATTACH;FMTTYPE=image/png:https://hcp-ed.co.uk/wp-content/uploads/2024/05/Traveller-Health-Update-Cardiff-2.png
END:VEVENT
BEGIN:VEVENT
DTSTART;TZID=UTC:20241023T083000
DTEND;TZID=UTC:20241023T163000
DTSTAMP:20260422T013129
CREATED:20240718T152018Z
LAST-MODIFIED:20241017T170456Z
UID:10001426-1729672200-1729701000@hcp-ed.co.uk
SUMMARY:Immunisation Update Day North West Wales
DESCRIPTION:  \nJoin HCP Ed-UK for a full Immunisation Update Day open to all qualified Practice Nurses and associated health care professionals working across North Wales.
URL:https://hcp-ed.co.uk/event/immunisation-update-day-north-west-wales/
LOCATION:Plas Menai Outdoor Centre for Wales\, Caernarfon\, LL55 1UE
CATEGORIES:Conference,General Health
ATTACH;FMTTYPE=image/png:https://hcp-ed.co.uk/wp-content/uploads/2024/07/North-West-Wales-Immunisation-Update-Day.png
END:VEVENT
END:VCALENDAR