BEGIN:VCALENDAR
VERSION:2.0
PRODID:-//HCP Ed-UK - ECPv6.15.14//NONSGML v1.0//EN
CALSCALE:GREGORIAN
METHOD:PUBLISH
X-WR-CALNAME:HCP Ed-UK
X-ORIGINAL-URL:https://hcp-ed.co.uk
X-WR-CALDESC:Events for HCP Ed-UK
REFRESH-INTERVAL;VALUE=DURATION:PT1H
X-Robots-Tag:noindex
X-PUBLISHED-TTL:PT1H
BEGIN:VTIMEZONE
TZID:UTC
BEGIN:STANDARD
TZOFFSETFROM:+0000
TZOFFSETTO:+0000
TZNAME:UTC
DTSTART:20230101T000000
END:STANDARD
END:VTIMEZONE
BEGIN:VEVENT
DTSTART;TZID=UTC:20240410T124500
DTEND;TZID=UTC:20240410T140000
DTSTAMP:20260422T134601
CREATED:20240227T041623Z
LAST-MODIFIED:20240227T080017Z
UID:10001411-1712753100-1712757600@hcp-ed.co.uk
SUMMARY:Sexual Health - Genital Skin Infections
DESCRIPTION:During this webinar you will learn about common genital skin infections and their management\, including herpes and genital warts. \n\n\n\nSpeaker: Dr Georgina Forbes. Specialist Doctor in Sexual and Reproductive Health in ABUHB
URL:https://hcp-ed.co.uk/event/sexual-health-genital-skin-infections/
LOCATION:Online Webinar
CATEGORIES:General Health,Lunch & Learn
ATTACH;FMTTYPE=image/png:https://hcp-ed.co.uk/wp-content/uploads/2024/02/Sexual-Health-Genital-Skin-Infections.png
END:VEVENT
BEGIN:VEVENT
DTSTART;TZID=UTC:20240412T083000
DTEND;TZID=UTC:20240412T163000
DTSTAMP:20260422T134601
CREATED:20240116T043454Z
LAST-MODIFIED:20240407T165535Z
UID:10001405-1712910600-1712939400@hcp-ed.co.uk
SUMMARY:South Wales Practice Nurse & ANP Spring Conference 2024
DESCRIPTION:The South Wales Practice Nurse Conference is open to all General Practice Nurses & ANP’s working in and supporting Primary Care. \n\n\n\nPlease note representatives from the pharmaceutical industry will be sponsoring the costs associated with this conference through the purchase of stand space. They have had no input into the organisation\, agenda\, slides or choice of speakers for this meeting. \n\n\n\nThe meeting will be facilitated by HCP Ed-UK in line with the ABPI.
URL:https://hcp-ed.co.uk/event/south-wales-practice-nurse-apn-spring-conference-2024/
LOCATION:Village Hotel\, Cardiff\, 29 Pendwyallt Road\, Cardiff\, CF14 7EF\, United Kingdom
CATEGORIES:Conference
ATTACH;FMTTYPE=image/png:https://hcp-ed.co.uk/wp-content/uploads/2024/01/South-Wales-Practice-Nurse-Spring-Conference-2024.png
END:VEVENT
BEGIN:VEVENT
DTSTART;TZID=UTC:20240419T083000
DTEND;TZID=UTC:20240419T163000
DTSTAMP:20260422T134601
CREATED:20240117T061426Z
LAST-MODIFIED:20240227T050118Z
UID:10001406-1713515400-1713544200@hcp-ed.co.uk
SUMMARY:North Wales Practice Nurse & ANP Spring Conference 2024
DESCRIPTION:The North Wales Practice Nurse Conference is open to all General Practice Nurses & ANP’s working in and supporting Primary Care. \n\n\n\nPlease note representatives from the pharmaceutical industry will be sponsoring the costs associated with this conference through the purchase of stand space. They have had no input into the organisation\, agenda\, slides or choice of speakers for this meeting. \n\n\n\nThe meeting will be facilitated by HCP Ed-UK in line with the ABPI. \n\n\n\n\n\n\n\nFree
URL:https://hcp-ed.co.uk/event/north-wales-practice-nurse-anp-spring-conference-2024/
LOCATION:Venue Cymru\, Penrhyn Crescent\, Llandudno\, LL30 1BB
CATEGORIES:Conference
ATTACH;FMTTYPE=image/png:https://hcp-ed.co.uk/wp-content/uploads/2024/01/North-Wales-Practice-Nurse-Spring-Conference-2024.png
END:VEVENT
BEGIN:VEVENT
DTSTART;TZID=UTC:20240420T083000
DTEND;TZID=UTC:20240420T150000
DTSTAMP:20260422T134601
CREATED:20240226T145734Z
LAST-MODIFIED:20240401T213503Z
UID:10001409-1713601800-1713625200@hcp-ed.co.uk
SUMMARY:Junior Doctors EDT Conference
DESCRIPTION:1-day Regional Conference to showcase the QIPs/audits/research completed by Junior Doctors working at Betsi Cadwaladr during their Educational Development Time \n\n\n\n\nAn event for Junior Doctors working across Betsi Cadwaladr\n\n\n\nLunch provided\n\n\n\nPrize for Best Oral Presentation and Best Poster Presentation\n\n\n\nCertificate of Attendance for Portfolio\n\n\n\n£10 to attend
URL:https://hcp-ed.co.uk/event/junior-doctors-edt-conference/
LOCATION:Venue Cymru\, Penrhyn Crescent\, Llandudno\, LL30 1BB
CATEGORIES:Conference
ATTACH;FMTTYPE=image/png:https://hcp-ed.co.uk/wp-content/uploads/2024/04/Junior-Doctors-EDT-Conference-2.png
END:VEVENT
BEGIN:VEVENT
DTSTART;TZID=UTC:20240425T190000
DTEND;TZID=UTC:20240425T203000
DTSTAMP:20260422T134601
CREATED:20240227T053947Z
LAST-MODIFIED:20240227T080343Z
UID:10001412-1714071600-1714077000@hcp-ed.co.uk
SUMMARY:ABC of Lipids
DESCRIPTION:Back to the basics – the ‘dos and don’ts’ of lipid profile interpretation\, classification of dyslipidaemias and the NICE guidance. \n\n\n\nSpeaker: Dr Yee Ping Teoh. Consultant Chemical Pathologist and Clinical Lead for Biochemistry at the Wrexham Maelor Hospital.
URL:https://hcp-ed.co.uk/event/abc-of-lipids/
LOCATION:Online Webinar
CATEGORIES:General Health
ATTACH;FMTTYPE=image/png:https://hcp-ed.co.uk/wp-content/uploads/2024/02/ABC-of-Lipids-1.png
END:VEVENT
END:VCALENDAR