BEGIN:VCALENDAR
VERSION:2.0
PRODID:-//HCP Ed-UK - ECPv6.15.14//NONSGML v1.0//EN
CALSCALE:GREGORIAN
METHOD:PUBLISH
X-ORIGINAL-URL:https://hcp-ed.co.uk
X-WR-CALDESC:Events for HCP Ed-UK
REFRESH-INTERVAL;VALUE=DURATION:PT1H
X-Robots-Tag:noindex
X-PUBLISHED-TTL:PT1H
BEGIN:VTIMEZONE
TZID:UTC
BEGIN:STANDARD
TZOFFSETFROM:+0000
TZOFFSETTO:+0000
TZNAME:UTC
DTSTART:20230101T000000
END:STANDARD
END:VTIMEZONE
BEGIN:VEVENT
DTSTART;TZID=UTC:20240207T090000
DTEND;TZID=UTC:20240207T163000
DTSTAMP:20260422T170733
CREATED:20230626T045725Z
LAST-MODIFIED:20240118T043229Z
UID:10001397-1707296400-1707323400@hcp-ed.co.uk
SUMMARY:Merseyside Practice Nurse & ANP Spring Conference 2024
DESCRIPTION:New to the HCP Ed-UK calendar\, this full day educational event will focus on the issues Practice Nurses and ANPs deal with every day.  Presentations delivered by local specialists will cover Dermatology\, Contraception\, Menopause\, Allergy & Intolerances\, Shingles\, Diabetes & Respiratory. The day is open up to Practice Nurse and ANPs working in and supporting Primary Care in Merseyside and Cheshire. \nThe Merseyside Practice Nurse Spring Conference 2024 is open to qualified Practice Nurses and ANP’s working in and supporting Primary Care. \nThis event is being sponsored by representatives from the pharmaceutical industry who are sponsoring the cost associated with the conference via the purchase of stand space. They have no input into the organisation\, agenda\, slide presentations or choice of speakers. \nThe Meeting will be facilitated by HCP Ed-UK in line with the ABPI
URL:https://hcp-ed.co.uk/event/liverpool-practice-nurse-spring-conference-2024/
LOCATION:Village Hotel Liverpool\, Fallows Way\, Whiston\, L35 1RZ
CATEGORIES:Conference
ATTACH;FMTTYPE=image/png:https://hcp-ed.co.uk/wp-content/uploads/2023/06/Merseyside-Practice-Nurse-Spring-Conference-2024-2.png
END:VEVENT
BEGIN:VEVENT
DTSTART;TZID=UTC:20240207T120000
DTEND;TZID=UTC:20240207T170000
DTSTAMP:20260422T170733
CREATED:20240103T000922Z
LAST-MODIFIED:20240123T205049Z
UID:10001401-1707307200-1707325200@hcp-ed.co.uk
SUMMARY:Contraception Update - Cardiff
DESCRIPTION:Delivered by Dr Georgina Forbes – Specialist Doctor in Sexual and Reproductive Health in ABUHB \n\n\n\nThis half day\, afternoon venue-based training event is aimed at Practice Nurses\, ANPs and qualified associated healthcare professionals working in and supporting Primary Care in South Wales.
URL:https://hcp-ed.co.uk/event/contraception-update/
LOCATION:NHS Woodlands House\, Maes y Coed Rd\, Cardiff\, CF14 4HH\, United Kingdom
CATEGORIES:Sexual Health
ATTACH;FMTTYPE=image/png:https://hcp-ed.co.uk/wp-content/uploads/2024/01/Contraception-Update-5.png
END:VEVENT
BEGIN:VEVENT
DTSTART;TZID=UTC:20240208T124500
DTEND;TZID=UTC:20240208T140000
DTSTAMP:20260422T170733
CREATED:20240103T002738Z
LAST-MODIFIED:20240118T042857Z
UID:10001402-1707396300-1707400800@hcp-ed.co.uk
SUMMARY:All About Asthma - All Wales
DESCRIPTION:Delivered by Angela Pugh – Lead Clinical Nurse Specialist (CNS) for Asthma – Cardiff & Vale\, this HCP Ed-UK webinar will focus on the new Asthma Guidelines and is aimed at Practice Nurse\, ANPs and qualified associated healthcare professionals working in and supporting Primary Care across Wales.
URL:https://hcp-ed.co.uk/event/all-about-asthma-wales/
LOCATION:Online Webinar
CATEGORIES:Lunch & Learn,Respiratory
ATTACH;FMTTYPE=image/png:https://hcp-ed.co.uk/wp-content/uploads/2024/01/All-About-Asthma-Wales-2.png
END:VEVENT
BEGIN:VEVENT
DTSTART;TZID=UTC:20240215T183000
DTEND;TZID=UTC:20240215T210000
DTSTAMP:20260422T170733
CREATED:20240103T041343Z
LAST-MODIFIED:20240118T042616Z
UID:10001404-1708021800-1708030800@hcp-ed.co.uk
SUMMARY:Cheshire West Skin Hub
DESCRIPTION:This evening event is aimed at GPs\, Practice Nurses\, Pharmacists and qualified associated healthcare professionals with an interest in Dermatology\, working in and supporting Primary Care across Cheshire.
URL:https://hcp-ed.co.uk/event/cheshire-west-skin-hub/
LOCATION:DoubleTree by Hilton Hotel\, Warrington Road\, Hoole\, Chester\, CH2 3PD\, United Kingdom
CATEGORIES:General Health
ATTACH;FMTTYPE=image/png:https://hcp-ed.co.uk/wp-content/uploads/2024/01/Cheshire-West-Skin-Hub-2.png
END:VEVENT
BEGIN:VEVENT
DTSTART;TZID=UTC:20240215T190000
DTEND;TZID=UTC:20240215T203000
DTSTAMP:20260422T170733
CREATED:20240103T032048Z
LAST-MODIFIED:20240123T202618Z
UID:10001403-1708023600-1708029000@hcp-ed.co.uk
SUMMARY:ECG in Acute Coronary Syndrome
DESCRIPTION:Guest Speaker: Charlie Bloe– Lead Nurse for Cardiology\, CCU\, Raigmore Hospital \n\n\n\nAcute Myocardial Infarction (Heart Attack) is a common medical emergency. Early recognition and management are essential to reduce the person’s risk of sudden death. This webinar will cover the clinical presentation in heart attack and in particular the 12-lead ECG appearances in patients with an acute myocardial infarction. \n\n\n\nThis HCP Ed-UK evening webinar is aimed at all Healthcare Professionals working in and supporting Primary Care & Secondary Care
URL:https://hcp-ed.co.uk/event/the-ecg-in-acute-coronary-syndrome-2/
LOCATION:Online Webinar
CATEGORIES:ECG,Heart of the Matter
ATTACH;FMTTYPE=image/png:https://hcp-ed.co.uk/wp-content/uploads/2024/01/The-ECG-in-Acute-Coronary-Syndrome-2.png
END:VEVENT
END:VCALENDAR