BEGIN:VCALENDAR
VERSION:2.0
PRODID:-//HCP Ed-UK - ECPv6.15.14//NONSGML v1.0//EN
CALSCALE:GREGORIAN
METHOD:PUBLISH
X-ORIGINAL-URL:https://hcp-ed.co.uk
X-WR-CALDESC:Events for HCP Ed-UK
REFRESH-INTERVAL;VALUE=DURATION:PT1H
X-Robots-Tag:noindex
X-PUBLISHED-TTL:PT1H
BEGIN:VTIMEZONE
TZID:UTC
BEGIN:STANDARD
TZOFFSETFROM:+0000
TZOFFSETTO:+0000
TZNAME:UTC
DTSTART:20230101T000000
END:STANDARD
END:VTIMEZONE
BEGIN:VEVENT
DTSTART;TZID=UTC:20240117T124500
DTEND;TZID=UTC:20240117T140000
DTSTAMP:20260422T184237
CREATED:20240102T223707Z
LAST-MODIFIED:20240117T183500Z
UID:10001288-1705495500-1705500000@hcp-ed.co.uk
SUMMARY:Bleeding and Hormonal Contraception - Two sides to every story
DESCRIPTION:Delivered by Dr Georgina Forbes – Specialist Doctor in Sexual and Reproductive Health in ABUHB\, this HCP Ed-UK Lunch & Learn Webinar is aimed at Practice Nurses\, ANPs\, GPs and qualified Associated Healthcare Professionals working in and supporting Primary Care. \n\n\n\nDuring this webinar you will learn how to manage bleeding as a side effect of contraception and how to use contraception to positively impact period problems.
URL:https://hcp-ed.co.uk/event/bleeding-and-hormonal-contraception-two-sides-to-every-story/
LOCATION:Online Webinar
CATEGORIES:Sexual Health
ATTACH;FMTTYPE=image/png:https://hcp-ed.co.uk/wp-content/uploads/2024/01/Bleeding-and-Hormonal-Contraception-3.png
END:VEVENT
BEGIN:VEVENT
DTSTART;TZID=UTC:20240118T190000
DTEND;TZID=UTC:20240118T203000
DTSTAMP:20260422T184237
CREATED:20240102T224204Z
LAST-MODIFIED:20240118T235423Z
UID:10001400-1705604400-1705609800@hcp-ed.co.uk
SUMMARY:Women & MI
DESCRIPTION:Guest Speaker: Charlie Bloe – Lead Nurse for Cardiology\, CCU\, Raigmore Hospital \n\n\n\nCovering two conditions that are seen predominantly in females and can both mimic acute myocardial infarction. \n\n\n\nTakotsubo Cardiomyopathy (“broken heart syndrome”) and Spontaneous Coronary Artery Dissection (SCAD).  The webinar is aimed at all qualified Health Care Professionals working in and supporting Primary Care & Secondary Care
URL:https://hcp-ed.co.uk/event/women-mi/
LOCATION:Online Webinar
CATEGORIES:ECG
ATTACH;FMTTYPE=image/png:https://hcp-ed.co.uk/wp-content/uploads/2024/01/Women-MI-3.png
END:VEVENT
END:VCALENDAR