BEGIN:VCALENDAR
VERSION:2.0
PRODID:-//HCP Ed-UK - ECPv6.15.14//NONSGML v1.0//EN
CALSCALE:GREGORIAN
METHOD:PUBLISH
X-ORIGINAL-URL:https://hcp-ed.co.uk
X-WR-CALDESC:Events for HCP Ed-UK
REFRESH-INTERVAL;VALUE=DURATION:PT1H
X-Robots-Tag:noindex
X-PUBLISHED-TTL:PT1H
BEGIN:VTIMEZONE
TZID:UTC
BEGIN:STANDARD
TZOFFSETFROM:+0000
TZOFFSETTO:+0000
TZNAME:UTC
DTSTART:20250101T000000
END:STANDARD
END:VTIMEZONE
BEGIN:VTIMEZONE
TZID:America/Los_Angeles
BEGIN:DAYLIGHT
TZOFFSETFROM:-0800
TZOFFSETTO:-0700
TZNAME:PDT
DTSTART:20250309T100000
END:DAYLIGHT
BEGIN:STANDARD
TZOFFSETFROM:-0700
TZOFFSETTO:-0800
TZNAME:PST
DTSTART:20251102T090000
END:STANDARD
BEGIN:DAYLIGHT
TZOFFSETFROM:-0800
TZOFFSETTO:-0700
TZNAME:PDT
DTSTART:20260308T100000
END:DAYLIGHT
BEGIN:STANDARD
TZOFFSETFROM:-0700
TZOFFSETTO:-0800
TZNAME:PST
DTSTART:20261101T090000
END:STANDARD
BEGIN:DAYLIGHT
TZOFFSETFROM:-0800
TZOFFSETTO:-0700
TZNAME:PDT
DTSTART:20270314T100000
END:DAYLIGHT
BEGIN:STANDARD
TZOFFSETFROM:-0700
TZOFFSETTO:-0800
TZNAME:PST
DTSTART:20271107T090000
END:STANDARD
BEGIN:DAYLIGHT
TZOFFSETFROM:-0800
TZOFFSETTO:-0700
TZNAME:PDT
DTSTART:20280312T100000
END:DAYLIGHT
BEGIN:STANDARD
TZOFFSETFROM:-0700
TZOFFSETTO:-0800
TZNAME:PST
DTSTART:20281105T090000
END:STANDARD
END:VTIMEZONE
BEGIN:VEVENT
DTSTART;TZID=UTC:20260519T124500
DTEND;TZID=UTC:20260519T140000
DTSTAMP:20260421T142151
CREATED:20260209T213034Z
LAST-MODIFIED:20260421T204133Z
UID:10001478-1779194700-1779199200@hcp-ed.co.uk
SUMMARY:GLP-1 Receptor Agonists: Beyond Glycaemic Control
DESCRIPTION:Beyond HbA1c: Modern Diabetes Care in Primary Care Nursing \n\n\n\nThe second in a series of three one-hour Lunch & Learn sessions designed for nurses working in general practice\, focusing on contemporary diabetes care beyond glycaemic control. \n\n\n\nSession 2 GLP-1 Receptor Agonists: Beyond Glycaemic Control \n\n\n\nSession overview/content:This session focuses on GLP-1 receptor agonists and their benefits beyond HbA1c reduction\,particularly in relation to cardiovascular risk reduction and weight management. The sessionwill support nurses in understanding the place of GLP-1 RAs in current diabetes care\,addressing common patient questions and misconceptions\, and recognising practical issuesrelevant to primary care nursing reviews. \n\n\n\nAim:To support primary care nurses in understanding the broader cardiometabolic benefits of GLP1 receptor agonists and their role in holistic diabetes management. \n\n\n\nLearning objectives:By the end of this session\, participants will be able to: \n\n\n\n\nOutline the mechanism of action of GLP-1 receptor agonists beyond glycaemic control\n\n\n\nDescribe the cardiovascular benefits associated with GLP-1 receptor agonist therapy\n\n\n\nUnderstand the impact of GLP-1 receptor agonists on weight and appetite regulation\n\n\n\nIdentify patients who may benefit most from GLP-1 receptor agonist treatment\n\n\n\nAddress common patient concerns and questions related to injections\, side effects\,and long-term use\n\n\n\n\n\n\n\n\n\n\n\n\n \n\n\n\nSpeaker: Tracy Kirk – Director of Education at the Primary Care Respiratory Training Centre.
URL:https://hcp-ed.co.uk/event/glp-1-receptor-agonists-beyond-glycaemic-control/
LOCATION:Online Webinar
CATEGORIES:Diabetes,Live Presentation
ATTACH;FMTTYPE=image/png:https://hcp-ed.co.uk/wp-content/uploads/2026/02/GLP-1-Receptor-Agonists-Beyond-Glycaemic-Control.png
END:VEVENT
BEGIN:VEVENT
DTSTART;TZID=America/Los_Angeles:20260703T083000
DTEND;TZID=America/Los_Angeles:20260703T163000
DTSTAMP:20260421T142151
CREATED:20260329T221356Z
LAST-MODIFIED:20260329T221401Z
UID:10001495-1783067400-1783096200@hcp-ed.co.uk
SUMMARY:Forging the Future of Diabetes Care South Wales 2026
DESCRIPTION:Diabetes Care in South Wales (Carmarthen/Llanelli) \n\n\n\n“Leading Change” \n\n\n\nJoin us for an inspiring & empowering event featuring thought leaders and changemakers working in the world of Diabetes. \n\n\n\n \n\n\n\n\n\n\n\nTogether\, with expert colleagues\, focusing on the emotional health & wellbeing of people with diabetes they’ll explore pressing challenges\, share impactful stories\, and spark conversation around innovation\, inclusion\, prevention and the steps needed to take to Forge the Future of Diabetes Care in South Wales. \n\n\n\n\n\n\n\nWhat the day holds for you. You will: \n\n\n\n\nExplore emerging pressures in diabetes care and how healthcare teams are adapting to meet new expectations.\n\n\n\nUnderstand the pathophysiology and management of diabetes-related complications\n\n\n\nLearn from improvement projects and clinical initiatives\n\n\n\nGain insight into national and regional programmes\n\n\n\nDiscuss integrated care approaches\, involving specialist dieticians\, psychiatrists\, and community health systems to support complex diabetes needs.\n\n\n\nEngage with pharmaceutical advancements.\n\n\n\nStrengthen local network connections among clinical staff\, service managers\, and policy influencers.\n\n\n\n\n\n\n\n\nIn addition attendees will: \n\n\n\n\nHave enhanced understanding of current clinical strategies and policy directions in diabetes care.\n\n\n\nBe better equipped to apply interdisciplinary insights to their practice.\n\n\n\nTake away actionable tools and ideas for implementing improvement projects in their own settings.\n\n\n\nBuild connections with peers\, innovators\, and leaders across the Cheshire & Merseyside diabetes care landscape.\n\n\n\nLeave motivated to collaborate and advocate for patient-centered\, system-integrated diabetes services.\n\n\n\n\n\n\n\n\n\n\n\n\n\n\n\n\n\n\n\n\nDon’t miss this opportunity to connect\, learn\, and lead the change.
URL:https://hcp-ed.co.uk/event/forging-the-future-of-diabetes-care-south-wales-2026/
LOCATION:Venue TBC
CATEGORIES:Conference,Diabetes
ATTACH;FMTTYPE=image/png:https://hcp-ed.co.uk/wp-content/uploads/2026/03/Forging-the-Future-of-Diabetes-Care-South-Wales.png
END:VEVENT
BEGIN:VEVENT
DTSTART;TZID=America/Los_Angeles:20260708T083000
DTEND;TZID=America/Los_Angeles:20260708T163000
DTSTAMP:20260421T142151
CREATED:20260329T215254Z
LAST-MODIFIED:20260329T225012Z
UID:10001494-1783499400-1783528200@hcp-ed.co.uk
SUMMARY:Forging the Future of Diabetes Care North Wales 2026
DESCRIPTION:Diabetes Care in North Wales \n\n\n\n“Leading Change” \n\n\n\nJoin us for an inspiring & empowering event featuring thought leaders and changemakers working in the world of Diabetes. \n\n\n\n \n\n\n\n\n\n\n\nTogether\, with expert colleagues\, focusing on the emotional health & wellbeing of people with diabetes they’ll explore pressing challenges\, share impactful stories\, and spark conversation around innovation\, inclusion\, prevention and the steps needed to take to Forge the Future of Diabetes Care in North Wales. \n\n\n\n\n\n\n\nWhat the day holds for you. You will: \n\n\n\n\nExplore emerging pressures in diabetes care and how healthcare teams are adapting to meet new expectations.\n\n\n\nUnderstand the pathophysiology and management of diabetes-related complications\n\n\n\nLearn from improvement projects and clinical initiatives\n\n\n\nGain insight into national and regional programmes\n\n\n\nDiscuss integrated care approaches\, involving specialist dieticians\, psychiatrists\, and community health systems to support complex diabetes needs.\n\n\n\nEngage with pharmaceutical advancements.\n\n\n\nStrengthen local network connections among clinical staff\, service managers\, and policy influencers.\n\n\n\n\n\n\n\n\nIn addition attendees will: \n\n\n\n\nHave enhanced understanding of current clinical strategies and policy directions in diabetes care.\n\n\n\nBe better equipped to apply interdisciplinary insights to their practice.\n\n\n\nTake away actionable tools and ideas for implementing improvement projects in their own settings.\n\n\n\nBuild connections with peers\, innovators\, and leaders across the Cheshire & Merseyside diabetes care landscape.\n\n\n\nLeave motivated to collaborate and advocate for patient-centered\, system-integrated diabetes services.\n\n\n\n\n\n\n\n\n\n\n\n\n\n\n\n\n\n\n\n\nDon’t miss this opportunity to connect\, learn\, and lead the change.
URL:https://hcp-ed.co.uk/event/forging-the-future-of-diabetes-care-north-wales-2026/
LOCATION:Venue TBC
CATEGORIES:Conference,Diabetes
ATTACH;FMTTYPE=image/png:https://hcp-ed.co.uk/wp-content/uploads/2026/03/Forging-the-Future-of-Diabetes-Care-North-Wales-1-1.png
END:VEVENT
BEGIN:VEVENT
DTSTART;TZID=UTC:20261007T083000
DTEND;TZID=UTC:20261007T163000
DTSTAMP:20260421T142151
CREATED:20250114T182555Z
LAST-MODIFIED:20260411T232234Z
UID:10001439-1791361800-1791390600@hcp-ed.co.uk
SUMMARY:Forging the Future of Diabetes Care in Greater Manchester
DESCRIPTION:You’re Invited: Forging the Future of Diabetes Care in Greater Manchester \n\n\n\n“Leading Change” \n\n\n\nJoin us for an inspiring & empowering event featuring thought leaders and changemakers working in the world of Diabetes including: \n\n\n\n\nProfessor Partha Kar – FRCP MD OBE. NHSE England GIRFT. National Specialty Advisor for Diabetes\, NHS England \n\n\n\n\n\nDr Kevin Fernando – Portfolio GP\, NHS Lothian \n\n\n\n\n\nProf Andrew Boulton – Professor of Medicine with a special interest in diabetes and its complications at the University of Manchester and Consultant Physician at Manchester Royal Infirmary.  \n\n\n\n\n\nJane Diggle – BSc (Hons) RGN Specialist Diabetes Nurse Practitioner \n\n\n\n\n\nTracey Molyneux – Consultant ACP Diabetes. Network Lead DSN \n\n\n\n\n \n\n\n\n\n\n\n\nTogether\, with expert colleagues\, they’ll explore pressing challenges\, share impactful stories\, and spark conversation around innovation\, inclusion\, prevention and the steps needed to take to Forge the Future of Diabetes Care in Greater Manchester \n\n\n\n\n\n\n\nAttendees will: \n\n\n\n\nExplore emerging pressures in diabetes care and how healthcare teams are adapting to meet new expectations.\n\n\n\nUnderstand the pathophysiology and management of diabetes-related complications\n\n\n\nLearn from improvement projects and clinical initiatives\n\n\n\nGain insight into national and regional programmes\n\n\n\nDiscuss integrated care approaches\, involving specialist dieticians\, psychiatrists\, and community health systems to support complex diabetes needs.\n\n\n\nEngage with pharmaceutical advancements.\n\n\n\nStrengthen local network connections among clinical staff\, service managers\, and policy influencers.\n\n\n\n\n\n\n\n\nIn addition attendees will: \n\n\n\n\nHave enhanced understanding of current clinical strategies and policy directions in diabetes care.\n\n\n\nBe better equipped to apply interdisciplinary insights to their practice.\n\n\n\nTake away actionable tools and ideas for implementing improvement projects in their own settings.\n\n\n\nBuild connections with peers\, innovators\, and leaders across the Greater Manchester diabetes care landscape.\n\n\n\nLeave motivated to collaborate and advocate for patient-centered\, system-integrated diabetes services.\n\n\n\n\n\n\n\n\n\n\n\n\n\n\n\n\nWhen: Wednesday 15th April 2026  \n\n\n\nWhere: Edgeley Park Stadium. Hardcastle Rd\, Edgeley\, Stockport SK3 9DD \n\n\n\nTimings: Registration from 8.30am for a 9.00am start.  4.30pm round-up and close  \n\n\n\n \n\n\n\nDon’t miss this opportunity to connect\, learn\, and lead the change. \n\n\n\n\n\n\n\n\n\n\n\n\n\n\n\n 
URL:https://hcp-ed.co.uk/event/forging-the-future-of-diabetes-care-manchester/
LOCATION:The 1883 Suite\, Edgeley Park\, Stockport County Football Club\, Hardcastle Rd\, Edgeley\, Stockport\, SK3 9DD
CATEGORIES:Conference,Diabetes
ATTACH;FMTTYPE=image/png:https://hcp-ed.co.uk/wp-content/uploads/2025/01/Forging-the-Future-of-Diabetes-Care-Greater-Manchester-1.png
END:VEVENT
BEGIN:VEVENT
DTSTART;TZID=America/Los_Angeles:20270305T083000
DTEND;TZID=America/Los_Angeles:20270305T163000
DTSTAMP:20260421T142151
CREATED:20260301T151055Z
LAST-MODIFIED:20260301T151233Z
UID:10001482-1804235400-1804264200@hcp-ed.co.uk
SUMMARY:Forging the Future of Diabetes Care Cheshire & Merseyside 2027
DESCRIPTION:Diabetes Care in Cheshire & Merseyside \n\n\n\n“Leading Change” \n\n\n\nJoin us for an inspiring & empowering event featuring thought leaders and changemakers working in the world of Diabetes. \n\n\n\n \n\n\n\n\n\n\n\nTogether\, with expert colleagues\, focusing on the emotional health & wellbeing of people with diabetes they’ll explore pressing challenges\, share impactful stories\, and spark conversation around innovation\, inclusion\, prevention and the steps needed to take to Forge the Future of Diabetes Care in Cheshire & Merseyside. \n\n\n\n\n\n\n\nWhat the day holds for you. You will: \n\n\n\n\nExplore emerging pressures in diabetes care and how healthcare teams are adapting to meet new expectations.\n\n\n\nUnderstand the pathophysiology and management of diabetes-related complications\n\n\n\nLearn from improvement projects and clinical initiatives\n\n\n\nGain insight into national and regional programmes\n\n\n\nDiscuss integrated care approaches\, involving specialist dieticians\, psychiatrists\, and community health systems to support complex diabetes needs.\n\n\n\nEngage with pharmaceutical advancements.\n\n\n\nStrengthen local network connections among clinical staff\, service managers\, and policy influencers.\n\n\n\n\n\n\n\n\nIn addition attendees will: \n\n\n\n\nHave enhanced understanding of current clinical strategies and policy directions in diabetes care.\n\n\n\nBe better equipped to apply interdisciplinary insights to their practice.\n\n\n\nTake away actionable tools and ideas for implementing improvement projects in their own settings.\n\n\n\nBuild connections with peers\, innovators\, and leaders across the Cheshire & Merseyside diabetes care landscape.\n\n\n\nLeave motivated to collaborate and advocate for patient-centered\, system-integrated diabetes services.\n\n\n\n\n\n\n\n\n\n\n\n\n\n\n\n\n\n\n\n\nDon’t miss this opportunity to connect\, learn\, and lead the change.
URL:https://hcp-ed.co.uk/event/forging-the-future-of-diabetes-care-cheshire-merseyside-2027/
LOCATION:Venue TBC
CATEGORIES:Conference,Diabetes
ATTACH;FMTTYPE=image/png:https://hcp-ed.co.uk/wp-content/uploads/2026/03/Forging-the-Future-of-Diabetes-Care-Cheshire-Merseyside-2027.png
END:VEVENT
END:VCALENDAR