BEGIN:VCALENDAR
VERSION:2.0
PRODID:-//HCP Ed-UK - ECPv6.15.14//NONSGML v1.0//EN
CALSCALE:GREGORIAN
METHOD:PUBLISH
X-WR-CALNAME:HCP Ed-UK
X-ORIGINAL-URL:https://hcp-ed.co.uk
X-WR-CALDESC:Events for HCP Ed-UK
REFRESH-INTERVAL;VALUE=DURATION:PT1H
X-Robots-Tag:noindex
X-PUBLISHED-TTL:PT1H
BEGIN:VTIMEZONE
TZID:UTC
BEGIN:STANDARD
TZOFFSETFROM:+0000
TZOFFSETTO:+0000
TZNAME:UTC
DTSTART:20250101T000000
END:STANDARD
END:VTIMEZONE
BEGIN:VEVENT
DTSTART;TZID=UTC:20260204T190000
DTEND;TZID=UTC:20260204T203000
DTSTAMP:20260419T204717
CREATED:20260102T050747Z
LAST-MODIFIED:20260317T153653Z
UID:10001345-1770231600-1770237000@hcp-ed.co.uk
SUMMARY:What is new in Contraception and Clinical Conundrums
DESCRIPTION:BOOKINGS NOW CLOSED \n\n\n\nTo include: \n\n\n\n\nSlynd\n\n\n\nVTE risk with contraception\n\n\n\nManagement of contraception in women using weight loss adjuncts.\n\n\n\n\n \n\n\n\nSpeaker: Dr Georgina Forbes \n\n\n\nDr. Georgina Forbes\, Specialist Doctor in Sexual and Reproductive Healthcare\, Aneurin Bevan University Health Board \n\n\n\nGeorgina has been a specialist doctor in sexual and reproductive healthcare (SRH) since 2021\, with a background of working in various aspects of women’s healthcare since 2011. Her role includes contraception\, menopause\, abortion and sexually transmitted infections.
URL:https://hcp-ed.co.uk/event/whats-new-in-contraception/
LOCATION:Online Webinar
CATEGORIES:Live Presentation
ATTACH;FMTTYPE=image/png:https://hcp-ed.co.uk/wp-content/uploads/2026/01/Whats-new-in-contraception-6.png
END:VEVENT
END:VCALENDAR