BEGIN:VCALENDAR
VERSION:2.0
PRODID:-//HCP Ed-UK - ECPv6.15.14//NONSGML v1.0//EN
CALSCALE:GREGORIAN
METHOD:PUBLISH
X-ORIGINAL-URL:https://hcp-ed.co.uk
X-WR-CALDESC:Events for HCP Ed-UK
REFRESH-INTERVAL;VALUE=DURATION:PT1H
X-Robots-Tag:noindex
X-PUBLISHED-TTL:PT1H
BEGIN:VTIMEZONE
TZID:UTC
BEGIN:STANDARD
TZOFFSETFROM:+0000
TZOFFSETTO:+0000
TZNAME:UTC
DTSTART:20230101T000000
END:STANDARD
END:VTIMEZONE
BEGIN:VEVENT
DTSTART;TZID=UTC:20241023T083000
DTEND;TZID=UTC:20241023T163000
DTSTAMP:20260419T204813
CREATED:20240718T152018Z
LAST-MODIFIED:20241017T170456Z
UID:10001426-1729672200-1729701000@hcp-ed.co.uk
SUMMARY:Immunisation Update Day North West Wales
DESCRIPTION:  \nJoin HCP Ed-UK for a full Immunisation Update Day open to all qualified Practice Nurses and associated health care professionals working across North Wales.
URL:https://hcp-ed.co.uk/event/immunisation-update-day-north-west-wales/
LOCATION:Plas Menai Outdoor Centre for Wales\, Caernarfon\, LL55 1UE
CATEGORIES:Conference,General Health
ATTACH;FMTTYPE=image/png:https://hcp-ed.co.uk/wp-content/uploads/2024/07/North-West-Wales-Immunisation-Update-Day.png
END:VEVENT
END:VCALENDAR