BEGIN:VCALENDAR
VERSION:2.0
PRODID:-//HCP Ed-UK - ECPv6.15.14//NONSGML v1.0//EN
CALSCALE:GREGORIAN
METHOD:PUBLISH
X-ORIGINAL-URL:https://hcp-ed.co.uk
X-WR-CALDESC:Events for HCP Ed-UK
REFRESH-INTERVAL;VALUE=DURATION:PT1H
X-Robots-Tag:noindex
X-PUBLISHED-TTL:PT1H
BEGIN:VTIMEZONE
TZID:UTC
BEGIN:STANDARD
TZOFFSETFROM:+0000
TZOFFSETTO:+0000
TZNAME:UTC
DTSTART:20230101T000000
END:STANDARD
END:VTIMEZONE
BEGIN:VEVENT
DTSTART;TZID=UTC:20241014T083000
DTEND;TZID=UTC:20241017T170000
DTSTAMP:20260419T204928
CREATED:20240812T210725Z
LAST-MODIFIED:20240919T212847Z
UID:10001428-1728894600-1729184400@hcp-ed.co.uk
SUMMARY:All Wales Respiratory SPR Autumn Training Week 2024
DESCRIPTION:We look forward to welcoming you to the All Wales Respiratory SPR Autumn Training week at the Village Hotel\, Cardiff. \n\n\n\nFour days of teaching\, personal and professional development for Respiratory SPRs working in Wales
URL:https://hcp-ed.co.uk/event/all-wales-respiratory-spr-autumn-training-week-2024/
LOCATION:Village Hotel\, Cardiff\, 29 Pendwyallt Road\, Cardiff\, CF14 7EF\, United Kingdom
CATEGORIES:Conference
ATTACH;FMTTYPE=image/png:https://hcp-ed.co.uk/wp-content/uploads/2024/08/SPR-Autumn-2024.png
END:VEVENT
BEGIN:VEVENT
DTSTART;TZID=UTC:20241015T083000
DTEND;TZID=UTC:20241015T163000
DTSTAMP:20260419T204928
CREATED:20240514T045557Z
LAST-MODIFIED:20240820T031739Z
UID:10001422-1728981000-1729009800@hcp-ed.co.uk
SUMMARY:Cardiff and Vale Practice Nurse Travel Health Update
DESCRIPTION:Format: Afternoon Venue based Conference with Supporting Exhibition \n\n\n\nAudience: PNs/ANPs working in South Wales \n\n\n\nSpeaker: Becky Swadling \n\n\n\n\n\n\n\n\n\n\n\n\n\n\n\n\n\n 
URL:https://hcp-ed.co.uk/event/travel-health-update-cardiff/
LOCATION:NHS Woodlands House\, Maes y Coed Rd\, Cardiff\, CF14 4HH\, United Kingdom
CATEGORIES:Conference,General Health
ATTACH;FMTTYPE=image/png:https://hcp-ed.co.uk/wp-content/uploads/2024/05/Traveller-Health-Update-Cardiff-2.png
END:VEVENT
END:VCALENDAR