BEGIN:VCALENDAR
VERSION:2.0
PRODID:-//HCP Ed-UK - ECPv6.15.14//NONSGML v1.0//EN
CALSCALE:GREGORIAN
METHOD:PUBLISH
X-ORIGINAL-URL:https://hcp-ed.co.uk
X-WR-CALDESC:Events for HCP Ed-UK
REFRESH-INTERVAL;VALUE=DURATION:PT1H
X-Robots-Tag:noindex
X-PUBLISHED-TTL:PT1H
BEGIN:VTIMEZONE
TZID:UTC
BEGIN:STANDARD
TZOFFSETFROM:+0000
TZOFFSETTO:+0000
TZNAME:UTC
DTSTART:20230101T000000
END:STANDARD
END:VTIMEZONE
BEGIN:VEVENT
DTSTART;TZID=UTC:20240925T083000
DTEND;TZID=UTC:20240925T163000
DTSTAMP:20260422T052527
CREATED:20240401T011900Z
LAST-MODIFIED:20240926T174802Z
UID:10001290-1727253000-1727281800@hcp-ed.co.uk
SUMMARY:North Wales Skin Hub Leg Ulcer Study Day
DESCRIPTION:This is the launch event for the new North Wales Skin Hub. \n\n\n\nThis session will focus on Leg Ulcer Care \n\n\n\nFormat: A Full Day venue based Conference with Supporting Exhibition \n\n\n\nAudience: GPs\, PNs\, ANPs\, DSNs\, District Nurses and Pharmacists \n\n\n\n\n\n\n\n\n\n\n\n\n\n\n\n\n\n\n\n\n\n 
URL:https://hcp-ed.co.uk/event/north-wales-skin-hub/
LOCATION:White House\, Holywell Rd\, Rhuallt\,\, St Asaph\, LL17 0AW\, United Kingdom
CATEGORIES:Conference,General Health
ATTACH;FMTTYPE=image/png:https://hcp-ed.co.uk/wp-content/uploads/2024/06/North-Wales-Skin-Hub-5.png
END:VEVENT
END:VCALENDAR