BEGIN:VCALENDAR
VERSION:2.0
PRODID:-//HCP Ed-UK - ECPv6.15.14//NONSGML v1.0//EN
CALSCALE:GREGORIAN
METHOD:PUBLISH
X-ORIGINAL-URL:https://hcp-ed.co.uk
X-WR-CALDESC:Events for HCP Ed-UK
REFRESH-INTERVAL;VALUE=DURATION:PT1H
X-Robots-Tag:noindex
X-PUBLISHED-TTL:PT1H
BEGIN:VTIMEZONE
TZID:UTC
BEGIN:STANDARD
TZOFFSETFROM:+0000
TZOFFSETTO:+0000
TZNAME:UTC
DTSTART:20230101T000000
END:STANDARD
END:VTIMEZONE
BEGIN:VEVENT
DTSTART;TZID=UTC:20240919T120000
DTEND;TZID=UTC:20240919T163000
DTSTAMP:20260419T204905
CREATED:20240507T233917Z
LAST-MODIFIED:20240916T043316Z
UID:10001299-1726747200-1726763400@hcp-ed.co.uk
SUMMARY:Caring for the Elderly Patient
DESCRIPTION:Afternoon Venue based Conference with Supporting Exhibition for all HCPs working in Primary & Secondary Care across North Wales. \n\n\n\nAgenda \n\n\n\n12noon Registration\, Refreshments\, Exhibition \n\n\n\n1.00pm Welcome & Outline of the afternoon- \n\n\n\nDr Indrajit Chatterjee\, Consultant Geriatrician & Clinical Director Elderly Care\, Ysbyty Glan Clwyd \n\n\n\nPrescribing\, De-prescribing & Polypharmacy in Older Adults: Dr Catherine Speare- Specialty Trainee in Geriatric Medicine \n\n\n\nUpdate on Stroke Management: Dr Walee Sayed\, Consultant Physician Wrexham Maelor Hospital & Stroke Lead BCUHB \n\n\n\nDelirium & Dementias: Dr Sion Jones\, Consultant Geriatrician\, Ysbyty Gwynedd \n\n\n\nMedical Certificate of Cause of Death: Dr Vedamurthy Adhiyaman\, Consultant Geriatrician Glan Clwyd Hospital & Medical Examiner \n\n\n\n5.00pm Round Up & Close \n\n\n\n\n\n\n\n\n\n\n\n\n\n\n\n\n\n 
URL:https://hcp-ed.co.uk/event/caring-for-the-elderly-patient/
LOCATION:White House\, Holywell Rd\, Rhuallt\,\, St Asaph\, LL17 0AW\, United Kingdom
CATEGORIES:Conference,General Health
ATTACH;FMTTYPE=image/png:https://hcp-ed.co.uk/wp-content/uploads/2024/05/Care-of-the-Elderly-Patient.png
END:VEVENT
BEGIN:VEVENT
DTSTART;TZID=UTC:20240919T190000
DTEND;TZID=UTC:20240919T203000
DTSTAMP:20260419T204905
CREATED:20240507T232054Z
LAST-MODIFIED:20240819T152331Z
UID:10001297-1726772400-1726777800@hcp-ed.co.uk
SUMMARY:Best Practice for Lipid Management in Primary Care Setting
DESCRIPTION:Follow Up session from the webinar delivered by Dr Yee Ping Teoh in April for HCPs working in and supporting Primary Care. \n\n\n\nSpeaker: Dr Yee Ping Teoh. Consultant Chemical Pathologist and Clinical Lead for Biochemistry at the Wrexham Maelor Hospital. \n\n\n\n\n\n\n\n\n\n\n\n\n\n\n\n\n\n 
URL:https://hcp-ed.co.uk/event/abc-of-lipids-follow-up-2/
LOCATION:Online Webinar
CATEGORIES:General Health
ATTACH;FMTTYPE=image/png:https://hcp-ed.co.uk/wp-content/uploads/2024/05/ABC-of-Lipids-Follow-Up-7.png
END:VEVENT
END:VCALENDAR