BEGIN:VCALENDAR
VERSION:2.0
PRODID:-//HCP Ed-UK - ECPv6.15.14//NONSGML v1.0//EN
CALSCALE:GREGORIAN
METHOD:PUBLISH
X-ORIGINAL-URL:https://hcp-ed.co.uk
X-WR-CALDESC:Events for HCP Ed-UK
REFRESH-INTERVAL;VALUE=DURATION:PT1H
X-Robots-Tag:noindex
X-PUBLISHED-TTL:PT1H
BEGIN:VTIMEZONE
TZID:UTC
BEGIN:STANDARD
TZOFFSETFROM:+0000
TZOFFSETTO:+0000
TZNAME:UTC
DTSTART:20230101T000000
END:STANDARD
END:VTIMEZONE
BEGIN:VEVENT
DTSTART;TZID=UTC:20240710T083000
DTEND;TZID=UTC:20240710T170000
DTSTAMP:20260422T083009
CREATED:20240227T074746Z
LAST-MODIFIED:20240708T190615Z
UID:10001414-1720600200-1720630800@hcp-ed.co.uk
SUMMARY:All Wales Respiratory Roadshow - North Wales
DESCRIPTION:The Respiratory landscape is changing – with the introduction of biologics\, the increase in multiple combination inhalers\, new Asthma guidelines\, the green programme and the introduction of patient tech. \n\n\n\nWith so much going on it is imperative that the Healthcare Professionals of Wales have access to up to date information and resources. \n\n\n\nOn Wednesday 10th July the All Wales Respiratory Roadshow comes to Llandudno as part of a series of full day events focusing on the future of Respiratory Care across Wales. \n\n\n\nAll qualified Healthcare Professionals working in and supporting respiratory patients in both Primary and Secondary Care across Wales are invited to attend\, to hear about and discuss new exciting initiatives and guidelines\, share best practice and network with their colleagues and peers.
URL:https://hcp-ed.co.uk/event/all-wales-respiratory-roadshow-north-wales/
LOCATION:Venue Cymru\, Penrhyn Crescent\, Llandudno\, LL30 1BB
CATEGORIES:Conference,Respiratory
ATTACH;FMTTYPE=image/png:https://hcp-ed.co.uk/wp-content/uploads/2024/07/All-Wales-Respiratory-Roadshow-North-Wales-4.png
END:VEVENT
END:VCALENDAR