BEGIN:VCALENDAR
VERSION:2.0
PRODID:-//HCP Ed-UK - ECPv6.15.14//NONSGML v1.0//EN
CALSCALE:GREGORIAN
METHOD:PUBLISH
X-WR-CALNAME:HCP Ed-UK
X-ORIGINAL-URL:https://hcp-ed.co.uk
X-WR-CALDESC:Events for HCP Ed-UK
REFRESH-INTERVAL;VALUE=DURATION:PT1H
X-Robots-Tag:noindex
X-PUBLISHED-TTL:PT1H
BEGIN:VTIMEZONE
TZID:UTC
BEGIN:STANDARD
TZOFFSETFROM:+0000
TZOFFSETTO:+0000
TZNAME:UTC
DTSTART:20230101T000000
END:STANDARD
END:VTIMEZONE
BEGIN:VEVENT
DTSTART;TZID=UTC:20240207T090000
DTEND;TZID=UTC:20240207T163000
DTSTAMP:20260422T184031
CREATED:20230626T045725Z
LAST-MODIFIED:20240118T043229Z
UID:10001397-1707296400-1707323400@hcp-ed.co.uk
SUMMARY:Merseyside Practice Nurse & ANP Spring Conference 2024
DESCRIPTION:New to the HCP Ed-UK calendar\, this full day educational event will focus on the issues Practice Nurses and ANPs deal with every day.  Presentations delivered by local specialists will cover Dermatology\, Contraception\, Menopause\, Allergy & Intolerances\, Shingles\, Diabetes & Respiratory. The day is open up to Practice Nurse and ANPs working in and supporting Primary Care in Merseyside and Cheshire. \nThe Merseyside Practice Nurse Spring Conference 2024 is open to qualified Practice Nurses and ANP’s working in and supporting Primary Care. \nThis event is being sponsored by representatives from the pharmaceutical industry who are sponsoring the cost associated with the conference via the purchase of stand space. They have no input into the organisation\, agenda\, slide presentations or choice of speakers. \nThe Meeting will be facilitated by HCP Ed-UK in line with the ABPI
URL:https://hcp-ed.co.uk/event/liverpool-practice-nurse-spring-conference-2024/
LOCATION:Village Hotel Liverpool\, Fallows Way\, Whiston\, L35 1RZ
CATEGORIES:Conference
ATTACH;FMTTYPE=image/png:https://hcp-ed.co.uk/wp-content/uploads/2023/06/Merseyside-Practice-Nurse-Spring-Conference-2024-2.png
END:VEVENT
BEGIN:VEVENT
DTSTART;TZID=UTC:20240207T120000
DTEND;TZID=UTC:20240207T170000
DTSTAMP:20260422T184031
CREATED:20240103T000922Z
LAST-MODIFIED:20240123T205049Z
UID:10001401-1707307200-1707325200@hcp-ed.co.uk
SUMMARY:Contraception Update - Cardiff
DESCRIPTION:Delivered by Dr Georgina Forbes – Specialist Doctor in Sexual and Reproductive Health in ABUHB \n\n\n\nThis half day\, afternoon venue-based training event is aimed at Practice Nurses\, ANPs and qualified associated healthcare professionals working in and supporting Primary Care in South Wales.
URL:https://hcp-ed.co.uk/event/contraception-update/
LOCATION:NHS Woodlands House\, Maes y Coed Rd\, Cardiff\, CF14 4HH\, United Kingdom
CATEGORIES:Sexual Health
ATTACH;FMTTYPE=image/png:https://hcp-ed.co.uk/wp-content/uploads/2024/01/Contraception-Update-5.png
END:VEVENT
END:VCALENDAR