BEGIN:VCALENDAR
VERSION:2.0
PRODID:-//HCP Ed-UK - ECPv6.15.14//NONSGML v1.0//EN
CALSCALE:GREGORIAN
METHOD:PUBLISH
X-WR-CALNAME:HCP Ed-UK
X-ORIGINAL-URL:https://hcp-ed.co.uk
X-WR-CALDESC:Events for HCP Ed-UK
REFRESH-INTERVAL;VALUE=DURATION:PT1H
X-Robots-Tag:noindex
X-PUBLISHED-TTL:PT1H
BEGIN:VTIMEZONE
TZID:UTC
BEGIN:STANDARD
TZOFFSETFROM:+0000
TZOFFSETTO:+0000
TZNAME:UTC
DTSTART:20220101T000000
END:STANDARD
END:VTIMEZONE
BEGIN:VEVENT
DTSTART;TZID=UTC:20231129T083000
DTEND;TZID=UTC:20231129T170000
DTSTAMP:20260425T032515
CREATED:20230822T151105Z
LAST-MODIFIED:20231127T234407Z
UID:10001280-1701246600-1701277200@hcp-ed.co.uk
SUMMARY:Focusing on the Future of Respiratory Care in Cheshire and Merseyside
DESCRIPTION:Working in Partnership across Primary and Secondary Care – Respiratory Update for ALL Healthcare Professionals across Merseyside and Cheshire ICB. The day is an opportunity to work together across all areas of respiratory medicine\, to learn from each\, tips and hints in our everyday care. There will be a selection of formalised presentations plus workshops.  \n\n\n 	The morning will start at the beginning – Mild Asthma – moving up the ladder to Severe\, how to Diagnose and Treat. Where do Biologics fit\, are patients missing out? \n\n\n 	How to refer to a severe asthma centre – moving on to the breathlessness patient\, are we sure it is respiratory? \n\n\n 	COPD – Do we really need accurate Spirometry to diagnose – do we have the time in our clinics to complete? Diagnosis – Treat – Review: How often\n\n\n 	The ‘Breathlessness Patient’ the crossover between COPD and CVD. So\, what is it and how should we define in our busy 20 minute clinics and treat?\n\n\n 	The Winter is very close: Virtual Clinics – are they helpful? Do they prevent admissions? \n\n\n 	Non-Pharmalogical Care Vs. Pharmalogical Care – Does Pulmonary Rehab really work? Should we not be concentrating on patients that have an MRC score of 1 & 2 to prevent PR? ‘Strictly COPD’ – does it work? \n\nCalling all Practice Managers: It is Teamwork: A business model focusing on Respiratory Care \nWe have some fabulous speakers who will be available at coffee/lunch time to grab for advice/questions. \nFull agenda to follow  \n\n\nThis event is being sponsored by representatives from the pharmaceutical industry who are sponsoring the cost associated with the conference via the purchase of stand space. They have no input into the organisation\, agenda\, slide presentations or choice of speakers. \nThe Meeting will be facilitated by HCP Ed-UK in line with the ABPI \n \nClick here to download a copy of the agenda  \n 
URL:https://hcp-ed.co.uk/event/focusing-on-the-future-of-respiratory-care/
LOCATION:Craxton Wood\, Parkgate Road\, Ellesmere Port\, CH66 9PB
CATEGORIES:Conference
ATTACH;FMTTYPE=image/png:https://hcp-ed.co.uk/wp-content/uploads/2023/08/HCP-Ed-UK-29th-Nov-sold-out-e1701099836107.png
END:VEVENT
END:VCALENDAR