BEGIN:VCALENDAR
VERSION:2.0
PRODID:-//HCP Ed-UK - ECPv6.15.14//NONSGML v1.0//EN
CALSCALE:GREGORIAN
METHOD:PUBLISH
X-ORIGINAL-URL:https://hcp-ed.co.uk
X-WR-CALDESC:Events for HCP Ed-UK
REFRESH-INTERVAL;VALUE=DURATION:PT1H
X-Robots-Tag:noindex
X-PUBLISHED-TTL:PT1H
BEGIN:VTIMEZONE
TZID:UTC
BEGIN:STANDARD
TZOFFSETFROM:+0000
TZOFFSETTO:+0000
TZNAME:UTC
DTSTART:20220101T000000
END:STANDARD
END:VTIMEZONE
BEGIN:VEVENT
DTSTART;TZID=UTC:20231122T083000
DTEND;TZID=UTC:20231122T163000
DTSTAMP:20260425T034603
CREATED:20230626T045321Z
LAST-MODIFIED:20240514T052839Z
UID:10001396-1700641800-1700670600@hcp-ed.co.uk
SUMMARY:Forging the Future of Diabetes Care in North Wales
DESCRIPTION:Join us on 22nd November at Venue Cymru to be part of this Forging the Future event\n\n \n\nWorld Diabetes day is the platform for this full day focusing on the Future of Diabetes Care in North Wales. The conference includes an overview of the new clinical network\, an introduction to the long-term conditions Hub\, Dietetic services\, Diabetes Technology and much more\, delivered by Specialists working in the field of Diabetes across Wales. The day is aimed at all qualified health care professionals working in and supporting both Primary and Secondary Care.\n\n \n\nAgenda to follow\n\n \n\nBook your FREE place now
URL:https://hcp-ed.co.uk/event/forging-the-future-of-diabetes-care-in-north-wales/
LOCATION:Venue Cymru\, Penrhyn Crescent\, Llandudno\, LL30 1BB
CATEGORIES:Conference
ATTACH;FMTTYPE=image/png:https://hcp-ed.co.uk/wp-content/uploads/2023/06/HCP-Ed-UK-Eventbrite-Header-2023-10-26T160809.018.png
END:VEVENT
END:VCALENDAR