BEGIN:VCALENDAR
VERSION:2.0
PRODID:-//HCP Ed-UK - ECPv6.15.14//NONSGML v1.0//EN
CALSCALE:GREGORIAN
METHOD:PUBLISH
X-WR-CALNAME:HCP Ed-UK
X-ORIGINAL-URL:https://hcp-ed.co.uk
X-WR-CALDESC:Events for HCP Ed-UK
REFRESH-INTERVAL;VALUE=DURATION:PT1H
X-Robots-Tag:noindex
X-PUBLISHED-TTL:PT1H
BEGIN:VTIMEZONE
TZID:UTC
BEGIN:STANDARD
TZOFFSETFROM:+0000
TZOFFSETTO:+0000
TZNAME:UTC
DTSTART:20220101T000000
END:STANDARD
END:VTIMEZONE
BEGIN:VEVENT
DTSTART;TZID=UTC:20231117T083000
DTEND;TZID=UTC:20231117T163000
DTSTAMP:20260425T120444
CREATED:20230626T050408Z
LAST-MODIFIED:20240605T222311Z
UID:10001398-1700209800-1700238600@hcp-ed.co.uk
SUMMARY:The Welsh Academy for Nursing in Diabetes - WAND Annual Conference 2023
DESCRIPTION:The Committee for the Welsh Academy for Nursing in Diabetes have great pleasure in inviting you to the WAND Annual Conference 2023\nThe Welsh Academy for Nursing in Diabetes is an expert professional resource to empower and enable nurses to deliver excellence in diabetes care.\nWe are delighted that the committee have asked HCP Ed-UK to gather bookings\, secure the venue and to facilitate the day on their behalf\, freeing them to concentrate on the important clinical work they all do across Wales.\n\n \n\nThe WAND Conference will take place at Futures Inn\, Cardiff Bay on Friday 17th November 2023. A new agenda will be available in the coming weeks and will include a great mix of interesting\, educational and entertaining presentations.\n\nOnce you have booked\, you will receive regular updates leading up to the event.\n\nWe look forward to seeing you on Friday 17th November for the WAND Annual Conference 2023\n\n*Please note this meeting is for Healthcare Professionals working in and supporting those in Wales
URL:https://hcp-ed.co.uk/event/the-welsh-academy-for-nursing-in-diabetes-wand-annual-conference-2023/
LOCATION:Future Inn Cardiff Bay\, Hemingway Road\, Cardiff\, CF10 4AU
CATEGORIES:Conference
ATTACH;FMTTYPE=image/png:https://hcp-ed.co.uk/wp-content/uploads/2023/06/HCP-Ed-UK-Eventbrite-Header-2023-11-10T154702.019-e1699631422715.png
END:VEVENT
END:VCALENDAR