BEGIN:VCALENDAR
VERSION:2.0
PRODID:-//HCP Ed-UK - ECPv6.15.14//NONSGML v1.0//EN
CALSCALE:GREGORIAN
METHOD:PUBLISH
X-WR-CALNAME:HCP Ed-UK
X-ORIGINAL-URL:https://hcp-ed.co.uk
X-WR-CALDESC:Events for HCP Ed-UK
REFRESH-INTERVAL;VALUE=DURATION:PT1H
X-Robots-Tag:noindex
X-PUBLISHED-TTL:PT1H
BEGIN:VTIMEZONE
TZID:UTC
BEGIN:STANDARD
TZOFFSETFROM:+0000
TZOFFSETTO:+0000
TZNAME:UTC
DTSTART:20220101T000000
END:STANDARD
END:VTIMEZONE
BEGIN:VEVENT
DTSTART;TZID=UTC:20231109T190000
DTEND;TZID=UTC:20231109T203000
DTSTAMP:20260425T073448
CREATED:20230510T221416Z
LAST-MODIFIED:20230627T175054Z
UID:10001390-1699556400-1699561800@hcp-ed.co.uk
SUMMARY:The Effects of Digoxin Toxicity on an ECG
DESCRIPTION:As part of our ongoing series of ECG related webinars  Charlie Bloe\, Lead Nurse for Cardiology – CCU\, Raigmore Hospital\, will cover the effects of digoxin toxicity on an ECG \n  \n \n*This event is aimed at HCP’s working in and supporting Primary & Secondary Care in the UK \nCertificates of attendance will be available as a record of your ongoing CPD.
URL:https://hcp-ed.co.uk/event/digoxin/
LOCATION:Online
CATEGORIES:Live Presentation
ATTACH;FMTTYPE=image/png:https://hcp-ed.co.uk/wp-content/uploads/2023/05/HCP-Ed-UK-Eventbrite-Header-100.png
END:VEVENT
END:VCALENDAR